BEGIN:VCALENDAR
VERSION:2.0
PRODID:-//gruender-mv.de//EN
BEGIN:VEVENT
UID:69e61b1302bd5@gruender-mv.de
DTSTAMP:20260420T122451Z
DTSTART:20241203T090000
DTEND:20241203T150000
SUMMARY:IHK-Beratungssprechtag Unternehmensfinanzierung (online)
DESCRIPTION:
URL:https://gruender-mv.de/events/ihk-beratungssprechtag-unternehmensfinanzierung-online-5/
END:VEVENT
END:VCALENDAR
