BEGIN:VCALENDAR
VERSION:2.0
PRODID:-//gruender-mv.de//EN
BEGIN:VEVENT
UID:69e4d9820fcc5@gruender-mv.de
DTSTAMP:20260419T133250Z
DTSTART:20241112T091500
DTEND:20241112T151500
SUMMARY:Beratungstag Finanzierung 
DESCRIPTION:
URL:https://gruender-mv.de/events/beratungstag-finanzierung-3/
END:VEVENT
END:VCALENDAR
