BEGIN:VCALENDAR
VERSION:2.0
PRODID:-//gruender-mv.de//EN
BEGIN:VEVENT
UID:69e61b059020d@gruender-mv.de
DTSTAMP:20260420T122437Z
DTSTART:20241106T085600
DTEND:20241106T085600
SUMMARY:Gründungswoche Webinar: Rechtliche Fragen zur Existenzgründung 
DESCRIPTION:
URL:https://gruender-mv.de/events/gruendungswoche-webinar-rechtliche-fragen-zur-existenzgruendung/
END:VEVENT
END:VCALENDAR
