BEGIN:VCALENDAR
VERSION:2.0
PRODID:-//gruender-mv.de//EN
BEGIN:VEVENT
UID:69e4d82b44f99@gruender-mv.de
DTSTAMP:20260419T132707Z
DTSTART:20230118T090000
DTEND:19700101T010000
SUMMARY: Crashkurs Digitale Selbstverteidigung
DESCRIPTION:
URL:https://gruender-mv.de/events/crashkurs-digitale-selbstverteidigung/
END:VEVENT
END:VCALENDAR
