BEGIN:VCALENDAR
VERSION:2.0
PRODID:-//gruender-mv.de//EN
BEGIN:VEVENT
UID:69e4d9811076b@gruender-mv.de
DTSTAMP:20260419T133249Z
DTSTART:20241120T140000
DTEND:20241120T150000
SUMMARY:Gründungswoche Webinar: Rechtliche Fragen zur Existenzgründung 
DESCRIPTION:
URL:https://gruender-mv.de/events/gruendungswoche-webinar-rechtliche-fragen-zur-existenzgruendung-2/
END:VEVENT
END:VCALENDAR
