BEGIN:VCALENDAR
VERSION:2.0
PRODID:-//gruender-mv.de//EN
BEGIN:VEVENT
UID:69e4d9215af5c@gruender-mv.de
DTSTAMP:20260419T133113Z
DTSTART:20241108T160000
DTEND:20241108T233000
SUMMARY:StartUp-Summit in Schwedt (Oder) mit Popup-Stammtisch und Himmel der Möwen
DESCRIPTION:SAVE THE DATE für das erste Event unserer Gründungsszene in der Region Berlin-Brandenburg.
URL:https://gruender-mv.de/events/startup-summit-in-schwedt-oder-mit-popup-stammtisch-und-himmel-der-moewen-4/
END:VEVENT
END:VCALENDAR
