BEGIN:VCALENDAR
VERSION:2.0
PRODID:-//gruender-mv.de//EN
BEGIN:VEVENT
UID:69e4da4665506@gruender-mv.de
DTSTAMP:20260419T133606Z
DTSTART:20241120T100000
DTEND:20241120T110000
SUMMARY:Wie komme ich als Gründerin an Geld?
DESCRIPTION:
URL:https://gruender-mv.de/events/wie-komme-ich-als-gruenderin-an-geld/
END:VEVENT
END:VCALENDAR
