BEGIN:VCALENDAR
VERSION:2.0
PRODID:-//gruender-mv.de//EN
BEGIN:VEVENT
UID:69e54e2c1a16f@gruender-mv.de
DTSTAMP:20260419T215036Z
DTSTART:20250619T160000
DTEND:20250619T233000
SUMMARY:Mitgliederversammlung 2025
DESCRIPTION:
URL:https://gruender-mv.de/events/kreative-ki-power-fuer-dein-gruendungsvorhaben/
END:VEVENT
END:VCALENDAR
