BEGIN:VCALENDAR
VERSION:2.0
PRODID:-//gruender-mv.de//EN
BEGIN:VEVENT
UID:69e4d97f4a2e7@gruender-mv.de
DTSTAMP:20260419T133247Z
DTSTART:20250108T183500
DTEND:20250108T143500
SUMMARY:asd
DESCRIPTION:
URL:https://gruender-mv.de/events/asd-2/
END:VEVENT
END:VCALENDAR
