BEGIN:VCALENDAR
VERSION:2.0
PRODID:-//gruender-mv.de//EN
BEGIN:VEVENT
UID:69e61a3f18283@gruender-mv.de
DTSTAMP:20260420T122119Z
DTSTART:20250114T100000
DTEND:20250114T160000
SUMMARY:Sprechtag Digitalisierung/Internetnutzung Januar 2025
DESCRIPTION:
URL:https://gruender-mv.de/events/sprechtag-digitalisierung-internetnutzung-januar-2025/
END:VEVENT
END:VCALENDAR
