BEGIN:VCALENDAR
VERSION:2.0
PRODID:-//gruender-mv.de//EN
BEGIN:VEVENT
UID:69e61a03c875c@gruender-mv.de
DTSTAMP:20260420T122019Z
DTSTART:20250128T170000
DTEND:20250128T190000
SUMMARY:HGWomen - Möglichkeiten der Anstellung
DESCRIPTION:
URL:https://gruender-mv.de/events/hgwomen-moeglichkeiten-der-anstellung/
END:VEVENT
END:VCALENDAR
