BEGIN:VCALENDAR
VERSION:2.0
PRODID:-//gruender-mv.de//EN
BEGIN:VEVENT
UID:69e4da4603dbe@gruender-mv.de
DTSTAMP:20260419T133606Z
DTSTART:20250115T083000
DTEND:20250115T093000
SUMMARY:Business Women Walk
DESCRIPTION:
URL:https://gruender-mv.de/events/business-women-walk-3/
END:VEVENT
END:VCALENDAR
