BEGIN:VCALENDAR
VERSION:2.0
PRODID:-//gruender-mv.de//EN
BEGIN:VEVENT
UID:69e4d9e108283@gruender-mv.de
DTSTAMP:20260419T133425Z
DTSTART:20250123T170000
DTEND:20250123T190000
SUMMARY:Netzwerktreffen: E-Rechnung, jetzt ist sie da!
DESCRIPTION:
URL:https://gruender-mv.de/events/netzwerktreffen-e-rechnung-jetzt-ist-sie-da/
END:VEVENT
END:VCALENDAR
