BEGIN:VCALENDAR
VERSION:2.0
PRODID:-//gruender-mv.de//EN
BEGIN:VEVENT
UID:69e608f7196e1@gruender-mv.de
DTSTAMP:20260420T110735Z
DTSTART:20250220T110000
DTEND:20250220T120000
SUMMARY:Künstliche Intelligenz im Unternehmen – Was fordert die KI-Verordnung?
DESCRIPTION:
URL:https://gruender-mv.de/events/kuenstliche-intelligenz-im-unternehmen-was-fordert-die-ki-verordnung/
END:VEVENT
END:VCALENDAR
