BEGIN:VCALENDAR
VERSION:2.0
PRODID:-//gruender-mv.de//EN
BEGIN:VEVENT
UID:69e61a375188f@gruender-mv.de
DTSTAMP:20260420T122111Z
DTSTART:20250128T090000
DTEND:20250128T160000
SUMMARY:Beratungstag Unternehmensnachfolge Januar
DESCRIPTION:
URL:https://gruender-mv.de/events/beratungstag-unternehmensnachfolge-4/
END:VEVENT
END:VCALENDAR
