BEGIN:VCALENDAR
VERSION:2.0
PRODID:-//gruender-mv.de//EN
BEGIN:VEVENT
UID:69e4da47a3172@gruender-mv.de
DTSTAMP:20260419T133607Z
DTSTART:20250204T091500
DTEND:20250204T151500
SUMMARY:Beratungstag Versicherung
DESCRIPTION:
URL:https://gruender-mv.de/events/beratungstag-versicherung-3/
END:VEVENT
END:VCALENDAR
