BEGIN:VCALENDAR
VERSION:2.0
PRODID:-//gruender-mv.de//EN
BEGIN:VEVENT
UID:69e4da4988e47@gruender-mv.de
DTSTAMP:20260419T133609Z
DTSTART:20250227T150000
DTEND:20250227T160000
SUMMARY:Webinar: Steuern &amp; Buchhaltung leicht erklärt - Mehr Durchblick, weniger Stress!
DESCRIPTION:
URL:https://gruender-mv.de/events/webinar-steuern-buchhaltung-leicht-erklaert-mehr-durchblick-weniger-stress/
END:VEVENT
END:VCALENDAR
