BEGIN:VCALENDAR
VERSION:2.0
PRODID:-//gruender-mv.de//EN
BEGIN:VEVENT
UID:69e4da4816cf5@gruender-mv.de
DTSTAMP:20260419T133608Z
DTSTART:20250306T090000
DTEND:20250306T160000
SUMMARY:Finanzierungssprechtag Greifswald März 2025
DESCRIPTION:
URL:https://gruender-mv.de/events/finanzierungssprechtag-greifswald-maerz-2025/
END:VEVENT
END:VCALENDAR
