BEGIN:VCALENDAR
VERSION:2.0
PRODID:-//gruender-mv.de//EN
BEGIN:VEVENT
UID:69e619dc36014@gruender-mv.de
DTSTAMP:20260420T121940Z
DTSTART:20250312T100000
DTEND:20250312T160000
SUMMARY:Sprechtag Unternehmensnachfolge März 2025 Neubrandenburg
DESCRIPTION:
URL:https://gruender-mv.de/events/sprechtag-unternehmensnachfolge-maerz-2025-neubrandenburg/
END:VEVENT
END:VCALENDAR
