BEGIN:VCALENDAR
VERSION:2.0
PRODID:-//gruender-mv.de//EN
BEGIN:VEVENT
UID:69e619dc62841@gruender-mv.de
DTSTAMP:20260420T121940Z
DTSTART:20250226T180000
DTEND:20250130T083236
SUMMARY:Veranstaltungsreihe für Gründungsinteressierte im Zukunftszentrum DeveLUP (Geschäftsidee - Vision)
DESCRIPTION:
URL:https://gruender-mv.de/events/veranstaltungsreihe-fuer-gruendungsinteressierte-im-zukunftszentrum-develup-geschaeftsidee-vision/
END:VEVENT
END:VCALENDAR
