BEGIN:VCALENDAR
VERSION:2.0
PRODID:-//gruender-mv.de//EN
BEGIN:VEVENT
UID:69e61b08269c3@gruender-mv.de
DTSTAMP:20260420T122440Z
DTSTART:20250417T160000
DTEND:20250417T230000
SUMMARY:19. Stammtisch Rostock #KMUmeetSTARTUP - mit den Wirtschaftsjunioren Rostock
DESCRIPTION:
URL:https://gruender-mv.de/events/19-stammtisch-rostock-kmumeetstartup-mit-den-wirtschaftsjunioren-rostock/
END:VEVENT
END:VCALENDAR
