BEGIN:VCALENDAR
VERSION:2.0
PRODID:-//gruender-mv.de//EN
BEGIN:VEVENT
UID:69e4da81416a1@gruender-mv.de
DTSTAMP:20260419T133705Z
DTSTART:20250304T090000
DTEND:20250304T150000
SUMMARY:IHK-Beratungssprechtag Unternehmensfinanzierung März (online)
DESCRIPTION:
URL:https://gruender-mv.de/events/ihk-beratungssprechtag-unternehmensfinanzierung-online-7/
END:VEVENT
END:VCALENDAR
