BEGIN:VCALENDAR
VERSION:2.0
PRODID:-//gruender-mv.de//EN
BEGIN:VEVENT
UID:69e61b118e2ca@gruender-mv.de
DTSTAMP:20260420T122449Z
DTSTART:20250220T110000
DTEND:20250220T120000
SUMMARY:WP MeetUp – Erfolgreiche Onlineshops mit WordPress
DESCRIPTION:
URL:https://gruender-mv.de/events/wp-meetup-erfolgreiche-onlineshops-mit-wordpress/
END:VEVENT
END:VCALENDAR
