BEGIN:VCALENDAR
VERSION:2.0
PRODID:-//gruender-mv.de//EN
BEGIN:VEVENT
UID:69e61b0f6429c@gruender-mv.de
DTSTAMP:20260420T122447Z
DTSTART:19700101T010000
DTEND:19700101T010000
SUMMARY:Starte erfolgreich in die (deine) Selbstständigkeit mit einer Veranstaltungsreihe im Zukunftszentrum DeveLUP
DESCRIPTION:
URL:https://gruender-mv.de/events/starte-erfolgreich-in-die-deine-selbststaendigkeit-mit-einer-veranstaltungsreihe-im-zukunftszentrum-develup/
END:VEVENT
END:VCALENDAR
