BEGIN:VCALENDAR
VERSION:2.0
PRODID:-//gruender-mv.de//EN
BEGIN:VEVENT
UID:69e61b3ad0620@gruender-mv.de
DTSTAMP:20260420T122530Z
DTSTART:20250320T150000
DTEND:20250320T170000
SUMMARY:Founders Bay Demo Day Batch #6 (online)
DESCRIPTION:
URL:https://gruender-mv.de/events/founders-bay-demo-day-batch-6-online/
END:VEVENT
END:VCALENDAR
