BEGIN:VCALENDAR
VERSION:2.0
PRODID:-//gruender-mv.de//EN
BEGIN:VEVENT
UID:69e4d9e134568@gruender-mv.de
DTSTAMP:20260419T133425Z
DTSTART:20250226T090000
DTEND:20250226T150000
SUMMARY:MSEaustausch: Sprechtag Finanzierung, Förderung, Nachfolge
DESCRIPTION:
URL:https://gruender-mv.de/events/mseaustausch-sprechtag-finanzierung-foerderung-nachfolge/
END:VEVENT
END:VCALENDAR
