BEGIN:VCALENDAR
VERSION:2.0
PRODID:-//gruender-mv.de//EN
BEGIN:VEVENT
UID:69e61a3951d6c@gruender-mv.de
DTSTAMP:20260420T122113Z
DTSTART:20250320T100000
DTEND:20250320T130000
SUMMARY:UV Jungunternehmernetzwerk „KI, Softwareroboter und Automatisierung – Effizienz-Booster für Ihr Business“
DESCRIPTION:
URL:https://gruender-mv.de/events/uv-jungunternehmernetzwerk-ki-softwareroboter-und-automatisierung-effizienz-booster-fuer-ihr-business/
END:VEVENT
END:VCALENDAR
