BEGIN:VCALENDAR
VERSION:2.0
PRODID:-//gruender-mv.de//EN
BEGIN:VEVENT
UID:69e4d98065824@gruender-mv.de
DTSTAMP:20260419T133248Z
DTSTART:20250425T113000
DTEND:20250427T150000
SUMMARY:Hanseschau 2025 - Himmel der Möwen
DESCRIPTION:
URL:https://gruender-mv.de/events/hanseschau-2025-himmel-der-moewen/
END:VEVENT
END:VCALENDAR
