BEGIN:VCALENDAR
VERSION:2.0
PRODID:-//gruender-mv.de//EN
BEGIN:VEVENT
UID:69e4d82abc87c@gruender-mv.de
DTSTAMP:20260419T132706Z
DTSTART:20250430T100000
DTEND:20250312T110000
SUMMARY:Infostunde für Gründende und Unternehmer
DESCRIPTION:
URL:https://gruender-mv.de/events/infostunde-fuer-gruendende-und-unternehmer/
END:VEVENT
END:VCALENDAR
