BEGIN:VCALENDAR
VERSION:2.0
PRODID:-//gruender-mv.de//EN
BEGIN:VEVENT
UID:69e6191deff6e@gruender-mv.de
DTSTAMP:20260420T121629Z
DTSTART:20250415T080000
DTEND:20250415T160000
SUMMARY:Sprechtag zur Erstellung von Unternehmens-Webseiten
DESCRIPTION:
URL:https://gruender-mv.de/events/sprechtag-zur-erstellung-von-unternehmens-webseiten/
END:VEVENT
END:VCALENDAR
