BEGIN:VCALENDAR
VERSION:2.0
PRODID:-//gruender-mv.de//EN
BEGIN:VEVENT
UID:69e54db78c1d8@gruender-mv.de
DTSTAMP:20260419T214839Z
DTSTART:20250513T091500
DTEND:20250513T151500
SUMMARY:Beratungstag Finanzierung
DESCRIPTION:
URL:https://gruender-mv.de/events/beratungstag-finanzierung-8/
END:VEVENT
END:VCALENDAR
