BEGIN:VCALENDAR
VERSION:2.0
PRODID:-//gruender-mv.de//EN
BEGIN:VEVENT
UID:69e4d828ca143@gruender-mv.de
DTSTAMP:20260419T132704Z
DTSTART:20250410T120000
DTEND:20250410T140000
SUMMARY:Bits &amp; Matjes: E-Rechnungen sicher und rechtskonform
DESCRIPTION:
URL:https://gruender-mv.de/events/bits-matjes-e-rechnungen-sicher-und-rechtskonform/
END:VEVENT
END:VCALENDAR
