BEGIN:VCALENDAR
VERSION:2.0
PRODID:-//gruender-mv.de//EN
BEGIN:VEVENT
UID:69e5207d8c17f@gruender-mv.de
DTSTAMP:20260419T183541Z
DTSTART:20250624T090000
DTEND:20250624T160000
SUMMARY:Beratungstag Unternehmensnachfolge
DESCRIPTION:
URL:https://gruender-mv.de/events/beratungstag-unternehmensnachfolge-9/
END:VEVENT
END:VCALENDAR
