BEGIN:VCALENDAR
VERSION:2.0
PRODID:-//gruender-mv.de//EN
BEGIN:VEVENT
UID:69e4d8920974f@gruender-mv.de
DTSTAMP:20260419T132850Z
DTSTART:20250416T100000
DTEND:20250416T130000
SUMMARY:How to Social Media – Eine Einführung in das Social-Media-Marketing für kleine und mittlere Unternehmen
DESCRIPTION:
URL:https://gruender-mv.de/events/how-to-social-media-eine-einfuehrung-in-das-social-media-marketing-fuer-kleine-und-mittlere-unternehmen/
END:VEVENT
END:VCALENDAR
