BEGIN:VCALENDAR
VERSION:2.0
PRODID:-//gruender-mv.de//EN
BEGIN:VEVENT
UID:69e618c2ba946@gruender-mv.de
DTSTAMP:20260420T121458Z
DTSTART:20250514T100000
DTEND:20250514T130000
SUMMARY:How to Social Media – Eine Einführung in das Social-Media-Marketing für kleine und mittlere Unternehmen
DESCRIPTION:
URL:https://gruender-mv.de/events/how-to-social-media-eine-einfuehrung-in-das-social-media-marketing-fuer-kleine-und-mittlere-unternehmen-2/
END:VEVENT
END:VCALENDAR
