BEGIN:VCALENDAR
VERSION:2.0
PRODID:-//gruender-mv.de//EN
BEGIN:VEVENT
UID:69e4dac6d0d5d@gruender-mv.de
DTSTAMP:20260419T133814Z
DTSTART:20250515T110000
DTEND:20250515T120000
SUMMARY:Vitamin D(igital): Mehr Sichtbarkeit durch Mehrsprachigkeit
DESCRIPTION:
URL:https://gruender-mv.de/events/vitamin-digital-mehr-sichtbarkeit-durch-mehrsprachigkeit/
END:VEVENT
END:VCALENDAR
