BEGIN:VCALENDAR
VERSION:2.0
PRODID:-//gruender-mv.de//EN
BEGIN:VEVENT
UID:69e61a3e1bdc5@gruender-mv.de
DTSTAMP:20260420T122118Z
DTSTART:20250528T170000
DTEND:20250528T210000
SUMMARY:unisphere factory community kickoff &amp; 20. Stammtisch Rostock #startupfactorymv
DESCRIPTION:
URL:https://gruender-mv.de/events/unisphere-factory-community-kickoff-20-stammtisch-rostock-startupfactorymv/
END:VEVENT
END:VCALENDAR
