BEGIN:VCALENDAR
VERSION:2.0
PRODID:-//gruender-mv.de//EN
BEGIN:VEVENT
UID:69e506bc9dde0@gruender-mv.de
DTSTAMP:20260419T164548Z
DTSTART:20250625T180000
DTEND:20250625T200000
SUMMARY:Veranstaltungsreihe für Gründungsinteressierte im Zukunftszentrum DeveLUP
DESCRIPTION:
URL:https://gruender-mv.de/events/veranstaltungsreihe-fuer-gruendungsinteressierte-im-zukunftszentrum-develup/
END:VEVENT
END:VCALENDAR
