BEGIN:VCALENDAR
VERSION:2.0
PRODID:-//gruender-mv.de//EN
BEGIN:VEVENT
UID:69e4d9e0d4513@gruender-mv.de
DTSTAMP:20260419T133424Z
DTSTART:20250616T170000
DTEND:20250616T190000
SUMMARY:HGWomen – Einblicke in den Literaturbetrieb mit Juli Katz
DESCRIPTION:
URL:https://gruender-mv.de/events/hgwomen-einblicke-in-den-literaturbetrieb-mit-juli-katz/
END:VEVENT
END:VCALENDAR
