BEGIN:VCALENDAR
VERSION:2.0
PRODID:-//gruender-mv.de//EN
BEGIN:VEVENT
UID:69e4d797d4d0f@gruender-mv.de
DTSTAMP:20260419T132439Z
DTSTART:20250623T110000
DTEND:20250623T150000
SUMMARY:YOLDIA – Schwungvoll kreativ mit Frauennetzwerken aus der Wirtschaft
DESCRIPTION:
URL:https://gruender-mv.de/events/yoldia-schwungvoll-kreativ-mit-frauennetzwerken-aus-der-wirtschaft/
END:VEVENT
END:VCALENDAR
