BEGIN:VCALENDAR
VERSION:2.0
PRODID:-//gruender-mv.de//EN
BEGIN:VEVENT
UID:69e6188454149@gruender-mv.de
DTSTAMP:20260420T121356Z
DTSTART:20250619T073000
DTEND:20250619T083000
SUMMARY:„Der frühe Vogel netzwerkt“ – Early Bird Unternehmerfrühstück 
DESCRIPTION:
URL:https://gruender-mv.de/events/der-fruehe-vogel-netzwerkt-early-bird-unternehmerfruehstueck-zum-thema-kuenstliche-intelligenz/
END:VEVENT
END:VCALENDAR
