BEGIN:VCALENDAR
VERSION:2.0
PRODID:-//gruender-mv.de//EN
BEGIN:VEVENT
UID:69e61b12c7592@gruender-mv.de
DTSTAMP:20260420T122450Z
DTSTART:20250616T100000
DTEND:20250620T140000
SUMMARY:Aktionswoche Unternehmensnachfolge 2025 
DESCRIPTION:
URL:https://gruender-mv.de/events/aktionswoche-unternehmensnachfolgewoche-2025/
END:VEVENT
END:VCALENDAR
