BEGIN:VCALENDAR
VERSION:2.0
PRODID:-//gruender-mv.de//EN
BEGIN:VEVENT
UID:69e4d799cdb6f@gruender-mv.de
DTSTAMP:20260419T132441Z
DTSTART:20230125T200000
DTEND:19700101T010000
SUMMARY:Business Punk: mit E-Mail Marketing dein Business stärken
DESCRIPTION:
URL:https://gruender-mv.de/events/business-punk-mit-e-mail-marketing-dein-business-staerken/
END:VEVENT
END:VCALENDAR
