BEGIN:VCALENDAR
VERSION:2.0
PRODID:-//gruender-mv.de//EN
BEGIN:VEVENT
UID:69e6440e01047@gruender-mv.de
DTSTAMP:20260420T151942Z
DTSTART:20250710T090000
DTEND:20250710T150000
SUMMARY:Meet &amp; Learn
DESCRIPTION:
URL:https://gruender-mv.de/events/meet-learn/
END:VEVENT
END:VCALENDAR
