BEGIN:VCALENDAR
VERSION:2.0
PRODID:-//gruender-mv.de//EN
BEGIN:VEVENT
UID:69e63362d6324@gruender-mv.de
DTSTAMP:20260420T140834Z
DTSTART:20250624T180000
DTEND:20250624T200000
SUMMARY:Digitalstammtisch: KI-Wissensmanagement
DESCRIPTION:
URL:https://gruender-mv.de/events/digitalstammtisch-ki-wissensmanagement/
END:VEVENT
END:VCALENDAR
