BEGIN:VCALENDAR
VERSION:2.0
PRODID:-//gruender-mv.de//EN
BEGIN:VEVENT
UID:69e520f5bb865@gruender-mv.de
DTSTAMP:20260419T183741Z
DTSTART:20250710T100000
DTEND:20250710T160000
SUMMARY:Sprechtag Unternehmensnachfolge in Greifswald Juli 2025
DESCRIPTION:
URL:https://gruender-mv.de/events/sprechtag-unternehmensnachfolge-in-greifswald-juli-2025/
END:VEVENT
END:VCALENDAR
