BEGIN:VCALENDAR
VERSION:2.0
PRODID:-//gruender-mv.de//EN
BEGIN:VEVENT
UID:69e4d920d032b@gruender-mv.de
DTSTAMP:20260419T133112Z
DTSTART:20250722T090000
DTEND:20250722T160000
SUMMARY:Beratungstag Unternehmensnachfolge
DESCRIPTION:
URL:https://gruender-mv.de/events/beratungstag-unternehmensnachfolge-11/
END:VEVENT
END:VCALENDAR
