BEGIN:VCALENDAR
VERSION:2.0
PRODID:-//gruender-mv.de//EN
BEGIN:VEVENT
UID:69e6191e14fd5@gruender-mv.de
DTSTAMP:20260420T121630Z
DTSTART:20250806T090000
DTEND:20250625T160000
SUMMARY:Finanzierungssprechtag August 2025
DESCRIPTION:
URL:https://gruender-mv.de/events/finanzierungssprechtag-august-2025/
END:VEVENT
END:VCALENDAR
