BEGIN:VCALENDAR
VERSION:2.0
PRODID:-//gruender-mv.de//EN
BEGIN:VEVENT
UID:69e5212565bd7@gruender-mv.de
DTSTAMP:20260419T183829Z
DTSTART:20250826T090000
DTEND:20250826T160000
SUMMARY:Beratungstag Unternehmensnachfolge im August
DESCRIPTION:
URL:https://gruender-mv.de/events/beratungstag-unternehmensnachfolge-12/
END:VEVENT
END:VCALENDAR
