BEGIN:VCALENDAR
VERSION:2.0
PRODID:-//gruender-mv.de//EN
BEGIN:VEVENT
UID:69e5fdb65ebcb@gruender-mv.de
DTSTAMP:20260420T101934Z
DTSTART:20250723T140000
DTEND:20250723T150000
SUMMARY:DIGITAL.KOMPETENZ: CoPilot in Word, PP, Exel und Co.
DESCRIPTION:
URL:https://gruender-mv.de/events/digital-kompetenz-copilot-in-word-pp-exel-und-co/
END:VEVENT
END:VCALENDAR
